BEGIN:VCALENDAR
VERSION:2.0
PRODID:-//hacksw/handcal//NONSGML v1.0//EN
CALSCALE:GREGORIAN
BEGIN:VEVENT
LOCATION:Promenade A. Simon Lorière\, 83120 Sainte-Maxime
DESCRIPTION:https://www.golfe-saint-tropez-information.com/en/animation/cultural/sainte-maxime/maxime-geek-univers-7035417
DTSTART:20261031T000000Z
DTEND:20261101T000000Z
SUMMARY:Maxime Geek Univers
URL;VALUE=URI:https://www.golfe-saint-tropez-information.com/en/animation/cultural/sainte-maxime/maxime-geek-univers-7035417
DTSTAMP:20260426T010234Z
UID:69ed642a1dc67
END:VEVENT
END:VCALENDAR