BEGIN:VCALENDAR
VERSION:2.0
PRODID:-//hacksw/handcal//NONSGML v1.0//EN
CALSCALE:GREGORIAN
BEGIN:VEVENT
LOCATION:83120 Sainte-Maxime
DESCRIPTION:https://www.golfe-saint-tropez-information.com/en/animation/sports-and-leisure/sainte-maxime/ocean-fifty-7032094
DTSTART:20260427T000000Z
DTEND:20260503T000000Z
SUMMARY:Ocean Fifty
URL;VALUE=URI:https://www.golfe-saint-tropez-information.com/en/animation/sports-and-leisure/sainte-maxime/ocean-fifty-7032094
DTSTAMP:20260422T174649Z
UID:69e90989c076d
END:VEVENT
END:VCALENDAR