BEGIN:VCALENDAR
VERSION:2.0
PRODID:-//hacksw/handcal//NONSGML v1.0//EN
CALSCALE:GREGORIAN
BEGIN:VEVENT
LOCATION:Plage de Gigaro\, 83420 La Croix-Valmer
DESCRIPTION:https://www.golfe-saint-tropez-information.com/fr/animation/nature-et-detente/la-croix-valmer/point-rencontre-avec-un-garde-du-littoral-flore-et-vegetation-du-cap-lardier-6998870
DTSTART:20261007T000000Z
DTEND:20261007T000000Z
SUMMARY:Point rencontre avec un garde du littoral : Flore et végétation du Cap Lardier
URL;VALUE=URI:https://www.golfe-saint-tropez-information.com/fr/animation/nature-et-detente/la-croix-valmer/point-rencontre-avec-un-garde-du-littoral-flore-et-vegetation-du-cap-lardier-6998870
DTSTAMP:20260425T203818Z
UID:69ed263ad7e3d
END:VEVENT
END:VCALENDAR