BEGIN:VCALENDAR
VERSION:2.0
PRODID:-//hacksw/handcal//NONSGML v1.0//EN
CALSCALE:GREGORIAN
BEGIN:VEVENT
LOCATION:Plage de Gigaro\, 83420 La Croix-Valmer
DESCRIPTION:https://www.golfe-saint-tropez-information.com/en/animation/nature-and-relaxation/la-croix-valmer/meeting-point-with-a-coastguard-flora-and-vegetation-of-cap-lardier-6998870
DTSTART:20261007T000000Z
DTEND:20261007T000000Z
SUMMARY:Meeting point with a coastguard : Flora and vegetation of Cap Lardier
URL;VALUE=URI:https://www.golfe-saint-tropez-information.com/en/animation/nature-and-relaxation/la-croix-valmer/meeting-point-with-a-coastguard-flora-and-vegetation-of-cap-lardier-6998870
DTSTAMP:20260425T222018Z
UID:69ed3e22f2bd3
END:VEVENT
END:VCALENDAR