BEGIN:VCALENDAR
VERSION:2.0
PRODID:-//hacksw/handcal//NONSGML v1.0//EN
CALSCALE:GREGORIAN
BEGIN:VEVENT
LOCATION:1\, Montée de la Citadelle\, 83990 Saint-Tropez
DESCRIPTION:https://www.golfe-saint-tropez-information.com/fr/animation/culture/saint-tropez/festival-isabelle-6989864
DTSTART:20260717T000000Z
DTEND:20260718T000000Z
SUMMARY:Festival Isabelle
URL;VALUE=URI:https://www.golfe-saint-tropez-information.com/fr/animation/culture/saint-tropez/festival-isabelle-6989864
DTSTAMP:20260425T203126Z
UID:69ed249e70cd8
END:VEVENT
END:VCALENDAR