BEGIN:VCALENDAR
VERSION:2.0
PRODID:-//hacksw/handcal//NONSGML v1.0//EN
CALSCALE:GREGORIAN
BEGIN:VEVENT
LOCATION:Rue Saint-Jacques\, 83680 La Garde-Freinet
DESCRIPTION:https://www.golfe-saint-tropez-information.com/fr/animation/distractions-et-loisirs/la-garde-freinet/exposition-dans-la-rue-la-saga-des-arts-6982532
DTSTART:20260701T000000Z
DTEND:20260819T000000Z
SUMMARY:Exposition dans la rue La Saga des Arts
URL;VALUE=URI:https://www.golfe-saint-tropez-information.com/fr/animation/distractions-et-loisirs/la-garde-freinet/exposition-dans-la-rue-la-saga-des-arts-6982532
DTSTAMP:20260422T202244Z
UID:69e92e14cb41d
END:VEVENT
END:VCALENDAR