BEGIN:VCALENDAR
VERSION:2.0
PRODID:-//hacksw/handcal//NONSGML v1.0//EN
CALSCALE:GREGORIAN
BEGIN:VEVENT
LOCATION:Rue Saint-Jacques\, 83680 La Garde-Freinet
DESCRIPTION:https://www.golfe-saint-tropez-information.com/en/animation/entertainment-recreation/la-garde-freinet/exhibition-in-the-street-la-saga-des-arts-6982532
DTSTART:20260701T000000Z
DTEND:20260819T000000Z
SUMMARY:Exhibition in the street La Saga des Arts
URL;VALUE=URI:https://www.golfe-saint-tropez-information.com/en/animation/entertainment-recreation/la-garde-freinet/exhibition-in-the-street-la-saga-des-arts-6982532
DTSTAMP:20260422T215007Z
UID:69e9428fc47bd
END:VEVENT
END:VCALENDAR