BEGIN:VCALENDAR
VERSION:2.0
PRODID:-//hacksw/handcal//NONSGML v1.0//EN
CALSCALE:GREGORIAN
BEGIN:VEVENT
LOCATION:83680 La Garde-Freinet
DESCRIPTION:https://www.golfe-saint-tropez-information.com/en/animation/entertainment-recreation/la-garde-freinet/kermesse-paroissiale-hameau-de-la-mourre-6966772
DTSTART:20260815T000000Z
DTEND:20260815T000000Z
SUMMARY:Kermesse Paroissiale Hameau de La Mourre
URL;VALUE=URI:https://www.golfe-saint-tropez-information.com/en/animation/entertainment-recreation/la-garde-freinet/kermesse-paroissiale-hameau-de-la-mourre-6966772
DTSTAMP:20260423T042559Z
UID:69e99f57662cc
END:VEVENT
END:VCALENDAR