BEGIN:VCALENDAR
VERSION:2.0
PRODID:-//hacksw/handcal//NONSGML v1.0//EN
CALSCALE:GREGORIAN
BEGIN:VEVENT
LOCATION:Place de la Mairie\, 83680 La Garde-Freinet
DESCRIPTION:https://www.golfe-saint-tropez-information.com/fr/animation/distractions-et-loisirs/la-garde-freinet/mechoui-avec-soiree-dansante-6911199
DTSTART:20260606T000000Z
DTEND:20260606T000000Z
SUMMARY:Méchoui avec soirée dansante
URL;VALUE=URI:https://www.golfe-saint-tropez-information.com/fr/animation/distractions-et-loisirs/la-garde-freinet/mechoui-avec-soiree-dansante-6911199
DTSTAMP:20260422T190038Z
UID:69e91ad64661c
END:VEVENT
END:VCALENDAR