BEGIN:VCALENDAR
VERSION:2.0
PRODID:-//hacksw/handcal//NONSGML v1.0//EN
CALSCALE:GREGORIAN
BEGIN:VEVENT
LOCATION:83120 Plan-de-la-Tour
DESCRIPTION:https://www.golfe-saint-tropez-information.com/en/animation/entertainment-recreation/plan-de-la-tour/l-art-dans-la-rue-concours-de-peinture-expositions-artisanat-6896812
DTSTART:20260523T000000Z
DTEND:20260523T000000Z
SUMMARY:L'Art dans la Rue - Concours de peinture - expositions - artisanat
URL;VALUE=URI:https://www.golfe-saint-tropez-information.com/en/animation/entertainment-recreation/plan-de-la-tour/l-art-dans-la-rue-concours-de-peinture-expositions-artisanat-6896812
DTSTAMP:20260422T190040Z
UID:69e91ad810abc
END:VEVENT
END:VCALENDAR