BEGIN:VCALENDAR
VERSION:2.0
PRODID:-//hacksw/handcal//NONSGML v1.0//EN
CALSCALE:GREGORIAN
BEGIN:VEVENT
LOCATION:83350 Ramatuelle
DESCRIPTION:https://www.golfe-saint-tropez-information.com/fr/animation/distractions-et-loisirs/ramatuelle/bal-du-15-aout-6889915
DTSTART:20260815T000000Z
DTEND:20260815T000000Z
SUMMARY:Bal du 15 août
URL;VALUE=URI:https://www.golfe-saint-tropez-information.com/fr/animation/distractions-et-loisirs/ramatuelle/bal-du-15-aout-6889915
DTSTAMP:20260423T002018Z
UID:69e965c2d5451
END:VEVENT
END:VCALENDAR