BEGIN:VCALENDAR
VERSION:2.0
PRODID:-//hacksw/handcal//NONSGML v1.0//EN
CALSCALE:GREGORIAN
BEGIN:VEVENT
LOCATION:83350 Ramatuelle
DESCRIPTION:https://www.golfe-saint-tropez-information.com/en/animation/entertainment-recreation/ramatuelle/august-15th-ball-6889915
DTSTART:20260815T000000Z
DTEND:20260815T000000Z
SUMMARY:August 15th Ball
URL;VALUE=URI:https://www.golfe-saint-tropez-information.com/en/animation/entertainment-recreation/ramatuelle/august-15th-ball-6889915
DTSTAMP:20260423T013546Z
UID:69e9777221eb0
END:VEVENT
END:VCALENDAR