BEGIN:VCALENDAR
VERSION:2.0
PRODID:-//hacksw/handcal//NONSGML v1.0//EN
CALSCALE:GREGORIAN
BEGIN:VEVENT
LOCATION:83120 Sainte-Maxime
DESCRIPTION:https://www.golfe-saint-tropez-information.com/fr/animation/distractions-et-loisirs/sainte-maxime/sainte-maxime-reves-auto-6885112
DTSTART:20260926T000000Z
DTEND:20260927T000000Z
SUMMARY:Sainte-Maxime Rêves Auto
URL;VALUE=URI:https://www.golfe-saint-tropez-information.com/fr/animation/distractions-et-loisirs/sainte-maxime/sainte-maxime-reves-auto-6885112
DTSTAMP:20260425T102328Z
UID:69ec962076f8e
END:VEVENT
END:VCALENDAR