BEGIN:VCALENDAR
VERSION:2.0
PRODID:-//hacksw/handcal//NONSGML v1.0//EN
CALSCALE:GREGORIAN
BEGIN:VEVENT
LOCATION:plage du Canadel\, avenue du Docteur Ratynski\, Rayol-Canadel-sur-Mer
DESCRIPTION:https://www.golfe-saint-tropez-information.com/en/animation/entertainment-recreation/rayol-canadel-sur-mer/sunset-musical-6857641
DTSTART:20260501T000000Z
DTEND:20260501T000000Z
SUMMARY:Sunset musical
URL;VALUE=URI:https://www.golfe-saint-tropez-information.com/en/animation/entertainment-recreation/rayol-canadel-sur-mer/sunset-musical-6857641
DTSTAMP:20260423T053733Z
UID:69e9b01d0d5b6
END:VEVENT
END:VCALENDAR