BEGIN:VCALENDAR
VERSION:2.0
PRODID:-//hacksw/handcal//NONSGML v1.0//EN
CALSCALE:GREGORIAN
BEGIN:VEVENT
LOCATION:Boulevard de Provence\, 83120 Sainte-Maxime
DESCRIPTION:https://www.golfe-saint-tropez-information.com/en/animation/cultural/sainte-maxime/les-nuits-de-la-nartelle-regards-croises-trio-george-sand-6818176
DTSTART:20260702T000000Z
DTEND:20260702T000000Z
SUMMARY:Les Nuits de la Nartelle : “Regards Croisés” – Trio George Sand
URL;VALUE=URI:https://www.golfe-saint-tropez-information.com/en/animation/cultural/sainte-maxime/les-nuits-de-la-nartelle-regards-croises-trio-george-sand-6818176
DTSTAMP:20260425T215613Z
UID:69ed387d268e0
END:VEVENT
END:VCALENDAR