BEGIN:VCALENDAR
VERSION:2.0
PRODID:-//hacksw/handcal//NONSGML v1.0//EN
CALSCALE:GREGORIAN
BEGIN:VEVENT
LOCATION:83990 Saint-Tropez
DESCRIPTION:https://www.golfe-saint-tropez-information.com/en/animation/sports-and-leisure/saint-tropez/cape-31-regate-6813925
DTSTART:20261012T000000Z
DTEND:20261017T000000Z
SUMMARY:Cape 31 - Régate
URL;VALUE=URI:https://www.golfe-saint-tropez-information.com/en/animation/sports-and-leisure/saint-tropez/cape-31-regate-6813925
DTSTAMP:20260426T010234Z
UID:69ed642a4392d
END:VEVENT
END:VCALENDAR