BEGIN:VCALENDAR
VERSION:2.0
PRODID:-//hacksw/handcal//NONSGML v1.0//EN
CALSCALE:GREGORIAN
BEGIN:VEVENT
LOCATION:Centre Maurin des Maures\, 53 Avenue G. Clemenceau\, 83310 Cogolin
DESCRIPTION:https://www.golfe-saint-tropez-information.com/fr/animation/distractions-et-loisirs/cogolin/boum-et-karaoke-des-enfants-6802139
DTSTART:20260422T000000Z
DTEND:20260422T000000Z
SUMMARY:Boum et karaoké des enfants
URL;VALUE=URI:https://www.golfe-saint-tropez-information.com/fr/animation/distractions-et-loisirs/cogolin/boum-et-karaoke-des-enfants-6802139
DTSTAMP:20260422T080302Z
UID:69e880b650a13
END:VEVENT
END:VCALENDAR