BEGIN:VCALENDAR
VERSION:2.0
PRODID:-//hacksw/handcal//NONSGML v1.0//EN
CALSCALE:GREGORIAN
BEGIN:VEVENT
LOCATION:Place Neuve\, 83680 La Garde-Freinet
DESCRIPTION:https://www.golfe-saint-tropez-information.com/fr/animation/distractions-et-loisirs/la-garde-freinet/fete-du-village-6783763
DTSTART:20260731T000000Z
DTEND:20260802T000000Z
SUMMARY:Fête du village
URL;VALUE=URI:https://www.golfe-saint-tropez-information.com/fr/animation/distractions-et-loisirs/la-garde-freinet/fete-du-village-6783763
DTSTAMP:20260425T173628Z
UID:69ecfb9c9d76f
END:VEVENT
END:VCALENDAR