BEGIN:VCALENDAR
VERSION:2.0
PRODID:-//hacksw/handcal//NONSGML v1.0//EN
CALSCALE:GREGORIAN
BEGIN:VEVENT
LOCATION:Place de la Mairie\, 83680 La Garde-Freinet
DESCRIPTION:https://www.golfe-saint-tropez-information.com/en/animation/entertainment-recreation/la-garde-freinet/bal-pour-la-fete-nationale-6783679
DTSTART:20260713T000000Z
DTEND:20260713T000000Z
SUMMARY:Bal pour la Fête Nationale
URL;VALUE=URI:https://www.golfe-saint-tropez-information.com/en/animation/entertainment-recreation/la-garde-freinet/bal-pour-la-fete-nationale-6783679
DTSTAMP:20260422T215547Z
UID:69e943e3187a5
END:VEVENT
END:VCALENDAR