BEGIN:VCALENDAR
VERSION:2.0
PRODID:-//hacksw/handcal//NONSGML v1.0//EN
CALSCALE:GREGORIAN
BEGIN:VEVENT
LOCATION:83680 La Garde-Freinet
DESCRIPTION:https://www.golfe-saint-tropez-information.com/en/animation/entertainment-recreation/la-garde-freinet/fete-de-la-musique-6782567
DTSTART:20260621T000000Z
DTEND:20260621T000000Z
SUMMARY:Fête de la Musique
URL;VALUE=URI:https://www.golfe-saint-tropez-information.com/en/animation/entertainment-recreation/la-garde-freinet/fete-de-la-musique-6782567
DTSTAMP:20260421T130901Z
UID:69e776edda1d2
END:VEVENT
END:VCALENDAR