BEGIN:VCALENDAR
VERSION:2.0
PRODID:-//hacksw/handcal//NONSGML v1.0//EN
CALSCALE:GREGORIAN
BEGIN:VEVENT
LOCATION:834 route des Blaquières\, 83310 Grimaud
DESCRIPTION:https://www.golfe-saint-tropez-information.com/fr/animation/sports/grimaud/tournoi-de-grimaud-de-gymnastique-rythmique-6780695
DTSTART:20260425T000000Z
DTEND:20260426T000000Z
SUMMARY:Tournoi de Grimaud de Gymnastique Rythmique
URL;VALUE=URI:https://www.golfe-saint-tropez-information.com/fr/animation/sports/grimaud/tournoi-de-grimaud-de-gymnastique-rythmique-6780695
DTSTAMP:20260422T174650Z
UID:69e9098a2f479
END:VEVENT
END:VCALENDAR