BEGIN:VCALENDAR
VERSION:2.0
PRODID:-//hacksw/handcal//NONSGML v1.0//EN
CALSCALE:GREGORIAN
BEGIN:VEVENT
LOCATION:834 route des Blaquières\, 83310 Grimaud
DESCRIPTION:https://www.golfe-saint-tropez-information.com/en/animation/sports-and-leisure/grimaud/grimaud-rhythmic-gymnastics-tournament-6780695
DTSTART:20260425T000000Z
DTEND:20260426T000000Z
SUMMARY:Grimaud Rhythmic Gymnastics Tournament
URL;VALUE=URI:https://www.golfe-saint-tropez-information.com/en/animation/sports-and-leisure/grimaud/grimaud-rhythmic-gymnastics-tournament-6780695
DTSTAMP:20260422T190238Z
UID:69e91b4e1de6a
END:VEVENT
END:VCALENDAR