BEGIN:VCALENDAR
VERSION:2.0
PRODID:-//hacksw/handcal//NONSGML v1.0//EN
CALSCALE:GREGORIAN
BEGIN:VEVENT
LOCATION:Place de l'église\, 83310 Grimaud
DESCRIPTION:https://www.golfe-saint-tropez-information.com/fr/animation/manifestations-commerciales/grimaud/marche-de-noel-bio-et-ethique-6737042
DTSTART:20261213T000000Z
DTEND:20261213T000000Z
SUMMARY:Marché de Noël bio et éthique
URL;VALUE=URI:https://www.golfe-saint-tropez-information.com/fr/animation/manifestations-commerciales/grimaud/marche-de-noel-bio-et-ethique-6737042
DTSTAMP:20260420T072945Z
UID:69e5d5e94f910
END:VEVENT
END:VCALENDAR