BEGIN:VCALENDAR
VERSION:2.0
PRODID:-//hacksw/handcal//NONSGML v1.0//EN
CALSCALE:GREGORIAN
BEGIN:VEVENT
LOCATION:Place de l'église\, 83310 Grimaud
DESCRIPTION:https://www.golfe-saint-tropez-information.com/en/animation/commercial-event/grimaud/organic-and-ethical-christmas-market-6737042
DTSTART:20261213T000000Z
DTEND:20261213T000000Z
SUMMARY:Organic and ethical Christmas market
URL;VALUE=URI:https://www.golfe-saint-tropez-information.com/en/animation/commercial-event/grimaud/organic-and-ethical-christmas-market-6737042
DTSTAMP:20260420T054903Z
UID:69e5be4fa9f63
END:VEVENT
END:VCALENDAR