BEGIN:VCALENDAR
VERSION:2.0
PRODID:-//hacksw/handcal//NONSGML v1.0//EN
CALSCALE:GREGORIAN
BEGIN:VEVENT
LOCATION:Centre Maurin des Maures\, 54 Avenue Georges Clemenceau\, 83310 Cogolin
DESCRIPTION:https://www.golfe-saint-tropez-information.com/fr/animation/distractions-et-loisirs/cogolin/the-dansant-6733094
DTSTART:20260426T000000Z
DTEND:20260426T000000Z
SUMMARY:Thé dansant
URL;VALUE=URI:https://www.golfe-saint-tropez-information.com/fr/animation/distractions-et-loisirs/cogolin/the-dansant-6733094
DTSTAMP:20260422T132747Z
UID:69e8ccd3058fd
END:VEVENT
END:VCALENDAR