BEGIN:VCALENDAR
VERSION:2.0
PRODID:-//hacksw/handcal//NONSGML v1.0//EN
CALSCALE:GREGORIAN
BEGIN:VEVENT
LOCATION:Résidence Cap Novéa\, Bâtiment A\, 528 Boulevard de Saint Raphaël\, 83420 La Croix-Valmer
DESCRIPTION:https://www.golfe-saint-tropez-information.com/fr/animation/distractions-et-loisirs/la-croix-valmer/recrealire-special-animaux-6699970
DTSTART:20260517T000000Z
DTEND:20260517T000000Z
SUMMARY:Récréalire : spécial animaux
URL;VALUE=URI:https://www.golfe-saint-tropez-information.com/fr/animation/distractions-et-loisirs/la-croix-valmer/recrealire-special-animaux-6699970
DTSTAMP:20260422T173339Z
UID:69e90673448e1
END:VEVENT
END:VCALENDAR