BEGIN:VCALENDAR
VERSION:2.0
PRODID:-//hacksw/handcal//NONSGML v1.0//EN
CALSCALE:GREGORIAN
BEGIN:VEVENT
LOCATION:Résidence Cap Novéa\, Bâtiment A\, 528 Boulevard de Saint Raphaël\, 83420 La Croix-Valmer
DESCRIPTION:https://www.golfe-saint-tropez-information.com/en/animation/entertainment-recreation/la-croix-valmer/recrealire-special-animals-6699970
DTSTART:20260517T000000Z
DTEND:20260517T000000Z
SUMMARY:Récréalire : special animals
URL;VALUE=URI:https://www.golfe-saint-tropez-information.com/en/animation/entertainment-recreation/la-croix-valmer/recrealire-special-animals-6699970
DTSTAMP:20260422T190036Z
UID:69e91ad4e13b0
END:VEVENT
END:VCALENDAR