BEGIN:VCALENDAR
VERSION:2.0
PRODID:-//hacksw/handcal//NONSGML v1.0//EN
CALSCALE:GREGORIAN
BEGIN:VEVENT
LOCATION:Boulevard de l'Esplanade\, 83680 La Garde-Freinet
DESCRIPTION:https://www.golfe-saint-tropez-information.com/en/animation/entertainment-recreation/la-garde-freinet/concours-de-petanque-nuitee-bouliste-6539241
DTSTART:20260619T000000Z
DTEND:20260619T000000Z
SUMMARY:Concours de pétanque "Nuitée bouliste"
URL;VALUE=URI:https://www.golfe-saint-tropez-information.com/en/animation/entertainment-recreation/la-garde-freinet/concours-de-petanque-nuitee-bouliste-6539241
DTSTAMP:20260422T202652Z
UID:69e92f0ca4b17
END:VEVENT
END:VCALENDAR