BEGIN:VCALENDAR
VERSION:2.0
PRODID:-//hacksw/handcal//NONSGML v1.0//EN
CALSCALE:GREGORIAN
BEGIN:VEVENT
LOCATION:Place des Palmiers\, 83420 La Croix-Valmer
DESCRIPTION:https://www.golfe-saint-tropez-information.com/fr/animation/distractions-et-loisirs/la-croix-valmer/concert-de-gala-west-virginia-university-wind-symphony-6503675
DTSTART:20260627T000000Z
DTEND:20260627T000000Z
SUMMARY:Concert de gala : West Virginia University Wind Symphony
URL;VALUE=URI:https://www.golfe-saint-tropez-information.com/fr/animation/distractions-et-loisirs/la-croix-valmer/concert-de-gala-west-virginia-university-wind-symphony-6503675
DTSTAMP:20260422T202656Z
UID:69e92f1005024
END:VEVENT
END:VCALENDAR