BEGIN:VCALENDAR
VERSION:2.0
PRODID:-//hacksw/handcal//NONSGML v1.0//EN
CALSCALE:GREGORIAN
BEGIN:VEVENT
LOCATION:Place des Palmiers\, 83420 La Croix-Valmer
DESCRIPTION:https://www.golfe-saint-tropez-information.com/en/animation/entertainment-recreation/la-croix-valmer/gala-concert-west-virginia-university-wind-symphony-6503675
DTSTART:20260627T000000Z
DTEND:20260627T000000Z
SUMMARY:Gala Concert : West Virginia University Wind Symphony
URL;VALUE=URI:https://www.golfe-saint-tropez-information.com/en/animation/entertainment-recreation/la-croix-valmer/gala-concert-west-virginia-university-wind-symphony-6503675
DTSTAMP:20260422T215737Z
UID:69e94451aa237
END:VEVENT
END:VCALENDAR