BEGIN:VCALENDAR
VERSION:2.0
PRODID:-//hacksw/handcal//NONSGML v1.0//EN
CALSCALE:GREGORIAN
BEGIN:VEVENT
LOCATION:Place des Palmiers\, 83420 La Croix-Valmer
DESCRIPTION:https://www.golfe-saint-tropez-information.com/fr/animation/distractions-et-loisirs/la-croix-valmer/concert-de-gala-orchestre-symphonique-conservatoire-de-prague-6503461
DTSTART:20260628T000000Z
DTEND:20260628T000000Z
SUMMARY:Concert de gala : Orchestre Symphonique Conservatoire de Prague
URL;VALUE=URI:https://www.golfe-saint-tropez-information.com/fr/animation/distractions-et-loisirs/la-croix-valmer/concert-de-gala-orchestre-symphonique-conservatoire-de-prague-6503461
DTSTAMP:20260422T215328Z
UID:69e94358efcd9
END:VEVENT
END:VCALENDAR