BEGIN:VCALENDAR
VERSION:2.0
PRODID:-//hacksw/handcal//NONSGML v1.0//EN
CALSCALE:GREGORIAN
BEGIN:VEVENT
LOCATION:Place des Palmiers\, 83420 La Croix-Valmer
DESCRIPTION:https://www.golfe-saint-tropez-information.com/en/animation/entertainment-recreation/la-croix-valmer/gala-concert-conservatoire-symphonic-orchestra-prague-6503461
DTSTART:20260628T000000Z
DTEND:20260628T000000Z
SUMMARY:Gala Concert : Conservatoire Symphonic Orchestra\, Prague
URL;VALUE=URI:https://www.golfe-saint-tropez-information.com/en/animation/entertainment-recreation/la-croix-valmer/gala-concert-conservatoire-symphonic-orchestra-prague-6503461
DTSTAMP:20260422T215337Z
UID:69e943619ac4d
END:VEVENT
END:VCALENDAR