BEGIN:VCALENDAR
VERSION:2.0
PRODID:-//hacksw/handcal//NONSGML v1.0//EN
CALSCALE:GREGORIAN
BEGIN:VEVENT
LOCATION:Place des Palmiers\, 83420 La Croix-Valmer
DESCRIPTION:https://www.golfe-saint-tropez-information.com/fr/animation/distractions-et-loisirs/la-croix-valmer/concert-de-gala-koninklijke-biltse-harmonie-6502658
DTSTART:20260626T000000Z
DTEND:20260626T000000Z
SUMMARY:Concert de gala : Koninklijke Biltse Harmonie
URL;VALUE=URI:https://www.golfe-saint-tropez-information.com/fr/animation/distractions-et-loisirs/la-croix-valmer/concert-de-gala-koninklijke-biltse-harmonie-6502658
DTSTAMP:20260422T202657Z
UID:69e92f116d158
END:VEVENT
END:VCALENDAR