BEGIN:VCALENDAR
VERSION:2.0
PRODID:-//hacksw/handcal//NONSGML v1.0//EN
CALSCALE:GREGORIAN
BEGIN:VEVENT
LOCATION:Place des Palmiers\, 83420 La Croix-Valmer
DESCRIPTION:https://www.golfe-saint-tropez-information.com/en/animation/entertainment-recreation/la-croix-valmer/gala-concert-koninklijke-biltse-harmonie-6502658
DTSTART:20260626T000000Z
DTEND:20260626T000000Z
SUMMARY:Gala Concert : Koninklijke Biltse Harmonie
URL;VALUE=URI:https://www.golfe-saint-tropez-information.com/en/animation/entertainment-recreation/la-croix-valmer/gala-concert-koninklijke-biltse-harmonie-6502658
DTSTAMP:20260422T215628Z
UID:69e9440c3423b
END:VEVENT
END:VCALENDAR