BEGIN:VCALENDAR
VERSION:2.0
PRODID:-//hacksw/handcal//NONSGML v1.0//EN
CALSCALE:GREGORIAN
BEGIN:VEVENT
LOCATION:La Rocade\, 83350 Ramatuelle
DESCRIPTION:https://www.golfe-saint-tropez-information.com/fr/animation/culture/ramatuelle/festival-reconnexion-de-retour-pour-sa-6eme-edition-programme-integral-6498882
DTSTART:20260713T000000Z
DTEND:20260717T000000Z
SUMMARY:Festival Reconnexion de retour pour sa 6ème édition  -  programme intégral
URL;VALUE=URI:https://www.golfe-saint-tropez-information.com/fr/animation/culture/ramatuelle/festival-reconnexion-de-retour-pour-sa-6eme-edition-programme-integral-6498882
DTSTAMP:20260422T202241Z
UID:69e92e11ef259
END:VEVENT
END:VCALENDAR