BEGIN:VCALENDAR
VERSION:2.0
PRODID:-//hacksw/handcal//NONSGML v1.0//EN
CALSCALE:GREGORIAN
BEGIN:VEVENT
LOCATION:La Rocade\, 83350 Ramatuelle
DESCRIPTION:https://www.golfe-saint-tropez-information.com/en/animation/cultural/ramatuelle/festival-reconnexion-returns-for-its-6th-edition-full-program-6498882
DTSTART:20260713T000000Z
DTEND:20260717T000000Z
SUMMARY:Festival Reconnexion returns for its 6th edition - full program
URL;VALUE=URI:https://www.golfe-saint-tropez-information.com/en/animation/cultural/ramatuelle/festival-reconnexion-returns-for-its-6th-edition-full-program-6498882
DTSTAMP:20260422T215033Z
UID:69e942a96bb42
END:VEVENT
END:VCALENDAR