BEGIN:VCALENDAR
VERSION:2.0
PRODID:-//hacksw/handcal//NONSGML v1.0//EN
CALSCALE:GREGORIAN
BEGIN:VEVENT
LOCATION:Esplanade Ste Estelle\, 83240 Cavalaire-sur-Mer
DESCRIPTION:https://www.golfe-saint-tropez-information.com/fr/animation/distractions-et-loisirs/cavalaire-sur-mer/ca-c-est-le-sud-la-tournee-de-la-region-sud-6493357
DTSTART:20260812T000000Z
DTEND:20260812T000000Z
SUMMARY:Ça c'est le Sud\, la Tournée de la Région Sud
URL;VALUE=URI:https://www.golfe-saint-tropez-information.com/fr/animation/distractions-et-loisirs/cavalaire-sur-mer/ca-c-est-le-sud-la-tournee-de-la-region-sud-6493357
DTSTAMP:20260423T001953Z
UID:69e965a93f020
END:VEVENT
END:VCALENDAR