BEGIN:VCALENDAR
VERSION:2.0
PRODID:-//hacksw/handcal//NONSGML v1.0//EN
CALSCALE:GREGORIAN
BEGIN:VEVENT
LOCATION:83350 Ramatuelle
DESCRIPTION:https://www.golfe-saint-tropez-information.com/fr/animation/distractions-et-loisirs/ramatuelle/les-mercredis-des-enfants-6466304
DTSTART:20260708T000000Z
DTEND:20260826T000000Z
SUMMARY:Les mercredis des enfants
URL;VALUE=URI:https://www.golfe-saint-tropez-information.com/fr/animation/distractions-et-loisirs/ramatuelle/les-mercredis-des-enfants-6466304
DTSTAMP:20260422T202653Z
UID:69e92f0d07332
END:VEVENT
END:VCALENDAR