BEGIN:VCALENDAR
VERSION:2.0
PRODID:-//hacksw/handcal//NONSGML v1.0//EN
CALSCALE:GREGORIAN
BEGIN:VEVENT
LOCATION:83350 Ramatuelle
DESCRIPTION:https://www.golfe-saint-tropez-information.com/en/animation/entertainment-recreation/ramatuelle/children-s-wednesdays-6466304
DTSTART:20260708T000000Z
DTEND:20260826T000000Z
SUMMARY:Children's Wednesdays
URL;VALUE=URI:https://www.golfe-saint-tropez-information.com/en/animation/entertainment-recreation/ramatuelle/children-s-wednesdays-6466304
DTSTAMP:20260422T214325Z
UID:69e940fdda054
END:VEVENT
END:VCALENDAR