BEGIN:VCALENDAR
VERSION:2.0
PRODID:-//hacksw/handcal//NONSGML v1.0//EN
CALSCALE:GREGORIAN
BEGIN:VEVENT
LOCATION:Rampe des Sarrazins\, Place de la Mairie\, 83680 La Garde-Freinet
DESCRIPTION:https://www.golfe-saint-tropez-information.com/fr/animation/culture/la-garde-freinet/exposition-l-assaga-dans-tous-ses-etats-6450229
DTSTART:20260901T000000Z
DTEND:20260930T000000Z
SUMMARY:Exposition "L' ASS.A.GA dans tous ses états"
URL;VALUE=URI:https://www.golfe-saint-tropez-information.com/fr/animation/culture/la-garde-freinet/exposition-l-assaga-dans-tous-ses-etats-6450229
DTSTAMP:20260423T041408Z
UID:69e99c9015d73
END:VEVENT
END:VCALENDAR