BEGIN:VCALENDAR
VERSION:2.0
PRODID:-//hacksw/handcal//NONSGML v1.0//EN
CALSCALE:GREGORIAN
BEGIN:VEVENT
LOCATION:Rampe des Sarrazins\, Place de la Mairie\, 83680 La Garde-Freinet
DESCRIPTION:https://www.golfe-saint-tropez-information.com/en/animation/cultural/la-garde-freinet/exhibition-l-assaga-dans-tous-ses-etats-the-assaga-in-all-its-states-6450229
DTSTART:20260901T000000Z
DTEND:20260930T000000Z
SUMMARY:Exhibition "L'ASS.A.GA dans tous ses états" (The ASS.A.GA in all its states)
URL;VALUE=URI:https://www.golfe-saint-tropez-information.com/en/animation/cultural/la-garde-freinet/exhibition-l-assaga-dans-tous-ses-etats-the-assaga-in-all-its-states-6450229
DTSTAMP:20260423T053556Z
UID:69e9afbc1f08b
END:VEVENT
END:VCALENDAR