BEGIN:VCALENDAR
VERSION:2.0
PRODID:-//hacksw/handcal//NONSGML v1.0//EN
CALSCALE:GREGORIAN
BEGIN:VEVENT
LOCATION:83350 Ramatuelle
DESCRIPTION:https://www.golfe-saint-tropez-information.com/fr/animation/distractions-et-loisirs/ramatuelle/parcours-decouverte-du-village-special-enfants-6428279
DTSTART:20260409T000000Z
DTEND:20260502T000000Z
SUMMARY:Parcours découverte du village "spécial enfants"
URL;VALUE=URI:https://www.golfe-saint-tropez-information.com/fr/animation/distractions-et-loisirs/ramatuelle/parcours-decouverte-du-village-special-enfants-6428279
DTSTAMP:20260425T160609Z
UID:69ece6719c53f
END:VEVENT
END:VCALENDAR