BEGIN:VCALENDAR
VERSION:2.0
PRODID:-//hacksw/handcal//NONSGML v1.0//EN
CALSCALE:GREGORIAN
BEGIN:VEVENT
LOCATION:83350 Ramatuelle
DESCRIPTION:https://www.golfe-saint-tropez-information.com/en/animation/entertainment-recreation/ramatuelle/children-s-village-discovery-trail-6428279
DTSTART:20260409T000000Z
DTEND:20260502T000000Z
SUMMARY:Children's village discovery trail
URL;VALUE=URI:https://www.golfe-saint-tropez-information.com/en/animation/entertainment-recreation/ramatuelle/children-s-village-discovery-trail-6428279
DTSTAMP:20260425T173610Z
UID:69ecfb8ad028c
END:VEVENT
END:VCALENDAR