BEGIN:VCALENDAR
VERSION:2.0
PRODID:-//hacksw/handcal//NONSGML v1.0//EN
CALSCALE:GREGORIAN
BEGIN:VEVENT
LOCATION:Avenue Général Touzet du Vigier\, 83120 Sainte-Maxime
DESCRIPTION:https://www.golfe-saint-tropez-information.com/en/animation/sports-and-leisure/sainte-maxime/maxime-ladies-raid-6405889
DTSTART:20260426T000000Z
DTEND:20260426T000000Z
SUMMARY:Maxime Ladies Raid
URL;VALUE=URI:https://www.golfe-saint-tropez-information.com/en/animation/sports-and-leisure/sainte-maxime/maxime-ladies-raid-6405889
DTSTAMP:20260422T161851Z
UID:69e8f4ebf3b68
END:VEVENT
END:VCALENDAR