BEGIN:VCALENDAR
VERSION:2.0
PRODID:-//hacksw/handcal//NONSGML v1.0//EN
CALSCALE:GREGORIAN
BEGIN:VEVENT
LOCATION:83990 Saint-Tropez
DESCRIPTION:https://www.golfe-saint-tropez-information.com/fr/animation/distractions-et-loisirs/saint-tropez/journee-mondiale-des-echecs-6311199
DTSTART:20260719T000000Z
DTEND:20260719T000000Z
SUMMARY:Journée Mondiale des Échecs
URL;VALUE=URI:https://www.golfe-saint-tropez-information.com/fr/animation/distractions-et-loisirs/saint-tropez/journee-mondiale-des-echecs-6311199
DTSTAMP:20260425T215616Z
UID:69ed3880335e8
END:VEVENT
END:VCALENDAR