BEGIN:VCALENDAR
VERSION:2.0
PRODID:-//hacksw/handcal//NONSGML v1.0//EN
CALSCALE:GREGORIAN
BEGIN:VEVENT
LOCATION:83990 Saint-Tropez
DESCRIPTION:https://www.golfe-saint-tropez-information.com/en/animation/entertainment-recreation/saint-tropez/world-chess-day-6311199
DTSTART:20260719T000000Z
DTEND:20260719T000000Z
SUMMARY:World Chess Day
URL;VALUE=URI:https://www.golfe-saint-tropez-information.com/en/animation/entertainment-recreation/saint-tropez/world-chess-day-6311199
DTSTAMP:20260425T232640Z
UID:69ed4db04a16b
END:VEVENT
END:VCALENDAR