BEGIN:VCALENDAR
VERSION:2.0
PRODID:-//hacksw/handcal//NONSGML v1.0//EN
CALSCALE:GREGORIAN
BEGIN:VEVENT
LOCATION:Avenue du Débarquement\, 83120 Sainte-Maxime\, 83120 Sainte-Maxime
DESCRIPTION:https://www.golfe-saint-tropez-information.com/fr/animation/sports/sainte-maxime/journees-d-initiations-gratuites-au-golf-6253858
DTSTART:20260401T000000Z
DTEND:20260426T000000Z
SUMMARY:Journées d'initiations gratuites au golf
URL;VALUE=URI:https://www.golfe-saint-tropez-information.com/fr/animation/sports/sainte-maxime/journees-d-initiations-gratuites-au-golf-6253858
DTSTAMP:20260425T160631Z
UID:69ece6870fc74
END:VEVENT
END:VCALENDAR