BEGIN:VCALENDAR
VERSION:2.0
PRODID:-//hacksw/handcal//NONSGML v1.0//EN
CALSCALE:GREGORIAN
BEGIN:VEVENT
LOCATION:Avenue du Débarquement\, 83120 Sainte-Maxime\, 83120 Sainte-Maxime
DESCRIPTION:https://www.golfe-saint-tropez-information.com/en/animation/sports-and-leisure/sainte-maxime/free-golf-initiation-days-6253858
DTSTART:20260401T000000Z
DTEND:20260426T000000Z
SUMMARY:Free golf initiation days
URL;VALUE=URI:https://www.golfe-saint-tropez-information.com/en/animation/sports-and-leisure/sainte-maxime/free-golf-initiation-days-6253858
DTSTAMP:20260425T173736Z
UID:69ecfbe0ea7e5
END:VEVENT
END:VCALENDAR