BEGIN:VCALENDAR
VERSION:2.0
PRODID:-//hacksw/handcal//NONSGML v1.0//EN
CALSCALE:GREGORIAN
BEGIN:VEVENT
LOCATION:Place Neuve\, 83680 La Garde-Freinet
DESCRIPTION:https://www.golfe-saint-tropez-information.com/fr/animation/distractions-et-loisirs/la-garde-freinet/forum-des-associations-6239333
DTSTART:20260906T000000Z
DTEND:20260906T000000Z
SUMMARY:Forum des Associations
URL;VALUE=URI:https://www.golfe-saint-tropez-information.com/fr/animation/distractions-et-loisirs/la-garde-freinet/forum-des-associations-6239333
DTSTAMP:20260423T041408Z
UID:69e99c9076303
END:VEVENT
END:VCALENDAR