BEGIN:VCALENDAR
VERSION:2.0
PRODID:-//hacksw/handcal//NONSGML v1.0//EN
CALSCALE:GREGORIAN
BEGIN:VEVENT
LOCATION:Place de la Mairie\, 83680 La Garde-Freinet
DESCRIPTION:https://www.golfe-saint-tropez-information.com/en/animation/sports-and-leisure/la-garde-freinet/trail-des-roches-blanches-6197110
DTSTART:20261101T000000Z
DTEND:20261101T000000Z
SUMMARY:Trail des Roches Blanches
URL;VALUE=URI:https://www.golfe-saint-tropez-information.com/en/animation/sports-and-leisure/la-garde-freinet/trail-des-roches-blanches-6197110
DTSTAMP:20260426T011833Z
UID:69ed67e938604
END:VEVENT
END:VCALENDAR